BEGIN:VCALENDAR
VERSION:2.0
PRODID:-//Knowsley Hall - ECPv6.15.17.1//NONSGML v1.0//EN
CALSCALE:GREGORIAN
METHOD:PUBLISH
X-WR-CALNAME:Knowsley Hall
X-ORIGINAL-URL:https://knowsleyhall.co.uk
X-WR-CALDESC:Events for Knowsley Hall
REFRESH-INTERVAL;VALUE=DURATION:PT1H
X-Robots-Tag:noindex
X-PUBLISHED-TTL:PT1H
BEGIN:VTIMEZONE
TZID:Europe/London
BEGIN:DAYLIGHT
TZOFFSETFROM:+0000
TZOFFSETTO:+0100
TZNAME:BST
DTSTART:20240331T010000
END:DAYLIGHT
BEGIN:STANDARD
TZOFFSETFROM:+0100
TZOFFSETTO:+0000
TZNAME:GMT
DTSTART:20241027T010000
END:STANDARD
BEGIN:DAYLIGHT
TZOFFSETFROM:+0000
TZOFFSETTO:+0100
TZNAME:BST
DTSTART:20250330T010000
END:DAYLIGHT
BEGIN:STANDARD
TZOFFSETFROM:+0100
TZOFFSETTO:+0000
TZNAME:GMT
DTSTART:20251026T010000
END:STANDARD
BEGIN:DAYLIGHT
TZOFFSETFROM:+0000
TZOFFSETTO:+0100
TZNAME:BST
DTSTART:20260329T010000
END:DAYLIGHT
BEGIN:STANDARD
TZOFFSETFROM:+0100
TZOFFSETTO:+0000
TZNAME:GMT
DTSTART:20261025T010000
END:STANDARD
END:VTIMEZONE
BEGIN:VEVENT
DTSTART;TZID=Europe/London:20250726T120000
DTEND;TZID=Europe/London:20250726T160000
DTSTAMP:20260419T140523
CREATED:20250619T145202Z
LAST-MODIFIED:20250724T084602Z
UID:10000114-1753531200-1753545600@knowsleyhall.co.uk
SUMMARY:Wedding Open Day
DESCRIPTION:Join us for our Wedding Open Day on Saturday 26 July\, from 12pm to 4pm\, and start planning your dream wedding! At Knowsley Hall\, every wedding enjoys complete exclusivity of the entire stately home\, ensuring you and your guests can celebrate without interruption. \nOur open days are a wonderful opportunity to see the house elegantly dressed for a wedding\, meet our dedicated team\, and gain inspiration from our trusted partners. Stroll through our beautiful rooms and picturesque gardens with a complimentary glass of fizz. \nOur friendly team will be on hand to answer any questions and help you reserve your preferred date. \nSecure your place at our open day by clicking the link below. \nParking is free. \nBOOK YOUR FREE PLACE \nThe following suppliers will be attending our open evening with more to come: \n\nBig Events\nBridal Sky Wedding Content Creation\nBy Invitationly\nDanielle Marouzet Hair\nGavin Foley Films \nLindy Rogers Photography\nLiz Hendry\nSkelmersdale Flower Centre\nThe Cake Pavilion\nThomas Demol Photographie\nViolinAround\nZanda Magic
URL:https://knowsleyhall.co.uk/event/wedding-open-day-july/
LOCATION:Knowsley Hall\, Knowsley Hall\, Prescot\, Merseyside\, L34 4AJ\, United Kingdom
ATTACH;FMTTYPE=image/png:https://knowsleyhall.co.uk/wp-content/uploads/2025/03/Knowsley-Hall-and-flowers.png
ORGANIZER;CN="Knowsley Hall":MAILTO:events@knowsley.com
END:VEVENT
END:VCALENDAR