BEGIN:VCALENDAR
VERSION:2.0
PRODID:-//Knowsley Hall - ECPv6.15.17.1//NONSGML v1.0//EN
CALSCALE:GREGORIAN
METHOD:PUBLISH
X-ORIGINAL-URL:https://knowsleyhall.co.uk
X-WR-CALDESC:Events for Knowsley Hall
REFRESH-INTERVAL;VALUE=DURATION:PT1H
X-Robots-Tag:noindex
X-PUBLISHED-TTL:PT1H
BEGIN:VTIMEZONE
TZID:Europe/London
BEGIN:DAYLIGHT
TZOFFSETFROM:+0000
TZOFFSETTO:+0100
TZNAME:BST
DTSTART:20240331T010000
END:DAYLIGHT
BEGIN:STANDARD
TZOFFSETFROM:+0100
TZOFFSETTO:+0000
TZNAME:GMT
DTSTART:20241027T010000
END:STANDARD
BEGIN:DAYLIGHT
TZOFFSETFROM:+0000
TZOFFSETTO:+0100
TZNAME:BST
DTSTART:20250330T010000
END:DAYLIGHT
BEGIN:STANDARD
TZOFFSETFROM:+0100
TZOFFSETTO:+0000
TZNAME:GMT
DTSTART:20251026T010000
END:STANDARD
BEGIN:DAYLIGHT
TZOFFSETFROM:+0000
TZOFFSETTO:+0100
TZNAME:BST
DTSTART:20260329T010000
END:DAYLIGHT
BEGIN:STANDARD
TZOFFSETFROM:+0100
TZOFFSETTO:+0000
TZNAME:GMT
DTSTART:20261025T010000
END:STANDARD
END:VTIMEZONE
BEGIN:VEVENT
DTSTART;TZID=Europe/London:20250322T183000
DTEND;TZID=Europe/London:20250322T233000
DTSTAMP:20260421T142724
CREATED:20241129T154821Z
LAST-MODIFIED:20250507T120208Z
UID:10000104-1742668200-1742686200@knowsleyhall.co.uk
SUMMARY:Murder Mystery Evening - Murder Beyond the Manor
DESCRIPTION:** We are sorry this event is now sold out ** \nWe invite you to an unforgettable Murder Mystery Evening where suspense\, glamour\, and excitement await. Join us on Saturday 22nd March\, for an enthralling experience brought to you by the UK’s leading murder mystery entertainment company\, Murder 57.  \nThe chilling evening begins at 6:30pm with a sparkling welcome drink upon arrival\, followed by a delicious four-course meal in the State Dining Room before guests embark on the fully interactive Murder Mystery Entertainment Event brought to Knowsley Hall by Murder 57.  \nOnce the mystery has been solved and the perpetrator exposed\, guests can rest easy and enjoy the rest of the night on the dancefloor.  The magic of the evening can also be extended with an overnight stay in one of Knowsley Hall’s magnificent en-suite bedrooms.  \nThe Plot – Murder Beyond the Manor\nThis evening\, Lord & Lady Jacobson are hosting a party in honour of their son’s engagement to socialite Champagne Oxton. With the Jacobson manor undergoing substantial refurbishment\, the very wealthy Jacobsons are hosting the party at the hotel\, and you’re invited. Tonight\, is supposed to be an evening of celebration – but will everything go to plan? Perhaps – but it depends on who’s plan!? \nThis experience priced at £125 per person includes:\n\nTickets to a fully Interactive Murder Mystery Entertainment Event by Murder 57\nA sparkling welcome drink \nFour-course meal – view menu here\nDJ entertainment by Big Creative Events\n\nBook an overnight stay\nExtend the magic of the evening with an overnight stay at Knowsley Hall. Priced at £500* for two people it includes all of the above with bed and breakfast for two people.  Check-in is available from 3:00pm on 22nd March\, with check-out at 11:00am on 23rd March. Spaces are limited for this exclusive event.   \nReserve your tickets today and prepare for a night of murder\, mystery\, elegance\, and excitement at Knowsley Hall!  \n*There is a £50 supplement to reserve Lord Derby’s Suite. \nIf you’d like to hear from Knowsley Hall for future events and news please click here \n 
URL:https://knowsleyhall.co.uk/event/murder-mystery-evening-murder-beyond-the-manor/
LOCATION:Knowsley Hall\, Knowsley Hall\, Prescot\, Merseyside\, L34 4AJ\, United Kingdom
ATTACH;FMTTYPE=image/jpeg:https://knowsleyhall.co.uk/wp-content/uploads/2024/11/Murder-Mystery-Event-3-KH.jpg
ORGANIZER;CN="Knowsley Hall":MAILTO:events@knowsley.com
END:VEVENT
END:VCALENDAR