BEGIN:VCALENDAR
VERSION:2.0
PRODID:-//Knowsley Hall - ECPv6.15.17.1//NONSGML v1.0//EN
CALSCALE:GREGORIAN
METHOD:PUBLISH
X-WR-CALNAME:Knowsley Hall
X-ORIGINAL-URL:https://knowsleyhall.co.uk
X-WR-CALDESC:Events for Knowsley Hall
REFRESH-INTERVAL;VALUE=DURATION:PT1H
X-Robots-Tag:noindex
X-PUBLISHED-TTL:PT1H
BEGIN:VTIMEZONE
TZID:Europe/London
BEGIN:DAYLIGHT
TZOFFSETFROM:+0000
TZOFFSETTO:+0100
TZNAME:BST
DTSTART:20240331T010000
END:DAYLIGHT
BEGIN:STANDARD
TZOFFSETFROM:+0100
TZOFFSETTO:+0000
TZNAME:GMT
DTSTART:20241027T010000
END:STANDARD
BEGIN:DAYLIGHT
TZOFFSETFROM:+0000
TZOFFSETTO:+0100
TZNAME:BST
DTSTART:20250330T010000
END:DAYLIGHT
BEGIN:STANDARD
TZOFFSETFROM:+0100
TZOFFSETTO:+0000
TZNAME:GMT
DTSTART:20251026T010000
END:STANDARD
BEGIN:DAYLIGHT
TZOFFSETFROM:+0000
TZOFFSETTO:+0100
TZNAME:BST
DTSTART:20260329T010000
END:DAYLIGHT
BEGIN:STANDARD
TZOFFSETFROM:+0100
TZOFFSETTO:+0000
TZNAME:GMT
DTSTART:20261025T010000
END:STANDARD
END:VTIMEZONE
BEGIN:VEVENT
DTSTART;TZID=Europe/London:20250112T110000
DTEND;TZID=Europe/London:20250112T150000
DTSTAMP:20260421T142835
CREATED:20241118T111722Z
LAST-MODIFIED:20250902T171008Z
UID:10000101-1736679600-1736694000@knowsleyhall.co.uk
SUMMARY:Wedding Open Day
DESCRIPTION:Join us for our Wedding Open Day on  Sunday 12 January\, from 11am to 3pm\, and start planning your dream wedding! At Knowsley Hall\, every wedding enjoys complete exclusivity of the entire stately home\, ensuring you and your guests can celebrate without interruption. \nOur open days are a wonderful opportunity to see the house elegantly dressed for a wedding\, meet our dedicated team\, and gain inspiration from our trusted partners. Stroll through our beautiful rooms and picturesque gardens with a complimentary glass of fizz. \nOur friendly team will be on hand to answer any questions and help you reserve your preferred date. \nSecure your place at our open evening by clicking the link below. \nParking is free. \nBOOK YOUR FREE PLACE \nThe following suppliers will be attending our open evening with more to come: \n\nBig Creative Events\nBoutique Brides of Crosby\nByInvitationOnly\nChristine Ellinas\nDanielle Marouzet Hair\nFlowers by Lauire\nHannah Carson – make up\nJeff Lanhorne Photography\nKeyhole Motors\nPrincess for a day\nNanny Tap\nSkelmersdale Flowers\nThe Cake Pavilion\nTo the Aisle\nThomas Demol – photographer\nViolin around\n\n 
URL:https://knowsleyhall.co.uk/event/wedding-open-day-january/
LOCATION:Knowsley Hall\, Knowsley Hall\, Prescot\, Merseyside\, L34 4AJ\, United Kingdom
ATTACH;FMTTYPE=image/jpeg:https://knowsleyhall.co.uk/wp-content/uploads/2023/06/Bride-groom-guests.jpg
ORGANIZER;CN="Knowsley Hall":MAILTO:events@knowsley.com
END:VEVENT
END:VCALENDAR