BEGIN:VCALENDAR
VERSION:2.0
PRODID:-//Knowsley Hall - ECPv6.15.17.1//NONSGML v1.0//EN
CALSCALE:GREGORIAN
METHOD:PUBLISH
X-WR-CALNAME:Knowsley Hall
X-ORIGINAL-URL:https://knowsleyhall.co.uk
X-WR-CALDESC:Events for Knowsley Hall
REFRESH-INTERVAL;VALUE=DURATION:PT1H
X-Robots-Tag:noindex
X-PUBLISHED-TTL:PT1H
BEGIN:VTIMEZONE
TZID:Europe/London
BEGIN:DAYLIGHT
TZOFFSETFROM:+0000
TZOFFSETTO:+0100
TZNAME:BST
DTSTART:20230326T010000
END:DAYLIGHT
BEGIN:STANDARD
TZOFFSETFROM:+0100
TZOFFSETTO:+0000
TZNAME:GMT
DTSTART:20231029T010000
END:STANDARD
BEGIN:DAYLIGHT
TZOFFSETFROM:+0000
TZOFFSETTO:+0100
TZNAME:BST
DTSTART:20240331T010000
END:DAYLIGHT
BEGIN:STANDARD
TZOFFSETFROM:+0100
TZOFFSETTO:+0000
TZNAME:GMT
DTSTART:20241027T010000
END:STANDARD
BEGIN:DAYLIGHT
TZOFFSETFROM:+0000
TZOFFSETTO:+0100
TZNAME:BST
DTSTART:20250330T010000
END:DAYLIGHT
BEGIN:STANDARD
TZOFFSETFROM:+0100
TZOFFSETTO:+0000
TZNAME:GMT
DTSTART:20251026T010000
END:STANDARD
END:VTIMEZONE
BEGIN:VEVENT
DTSTART;TZID=Europe/London:20241006T120000
DTEND;TZID=Europe/London:20241006T150000
DTSTAMP:20260421T193043
CREATED:20240531T110945Z
LAST-MODIFIED:20250507T145307Z
UID:10000081-1728216000-1728226800@knowsleyhall.co.uk
SUMMARY:Knowsley Hall Wedding Show
DESCRIPTION:Join us for an unforgettable experience at Knowsley Hall\, where we are excited to collaborate with The Wedding Show! Nestled within the beautiful grounds of our historic stately home\, this event is the perfect opportunity for brides and grooms-to-be to explore our stunning venue and meet top wedding professionals. \nEvent Details: \n\nDate: 6th October 2024\nTime: 12pm – 3pm\nLocation: Knowsley Hall\, Prescot\, Merseyside\, use  L34 7HF for sat nav or you can use ‘What 3 words’ – ///tribe.tolls.bids.\n\nWhat to Expect: \n\nVenue Tours: Take a guided tour of our exquisite rooms\, including the grand Stucco Ballroom and elegant State Dining Room\, beautifully dressed for the occasion.\nTop Exhibitors: Meet with a curated selection of the finest wedding vendors\, including florists\, photographers\, cake designers\, stationery experts\, and entertainers.\nInspiration and Ideas: Discover the latest trends and get inspired to create the wedding of your dreams.\nSpecial Offers: Take advantage of exclusive show-only offers and discounts from our trusted exhibitors.\n\nWhy Attend? \n\nExperience the Magic: Feel the grandeur and romance of Knowsley Hall as you envision your special day in our luxurious setting.\nExpert Advice: Get valuable tips and personalised advice from wedding industry experts.\n\nWe look forward to welcoming you to Knowsley Hall and helping you create memories that will last a lifetime. \nRegister for FREE tickets here \nDirections \nThe turn off for the gate is directly off the main road. Look out for the two yellow Knowsley Hall road sign on the ground\, either side of the gate. The gates will be open and manned by security. If the gates are closed\, please call 0151 489 4827. Once you are inside the Estate\, follow the road until you reach a crossroad. Turn right and you will see the Hall on your left hand side. Turn left and drive straight up to the hall onto the gravel\, then turn left into the overflow car park. \n 
URL:https://knowsleyhall.co.uk/event/knowsley-hall-wedding-show/
LOCATION:Knowsley Hall\, Knowsley Hall\, Prescot\, Merseyside\, L34 4AJ\, United Kingdom
ATTACH;FMTTYPE=image/png:https://knowsleyhall.co.uk/wp-content/uploads/2024/05/Copy-of-Feb-open-day-Facebook-Post-1.png
ORGANIZER;CN="Knowsley Hall":MAILTO:events@knowsley.com
END:VEVENT
BEGIN:VEVENT
DTSTART;TZID=Europe/London:20241007T103000
DTEND;TZID=Europe/London:20241010T163000
DTSTAMP:20260421T193043
CREATED:20240305T140041Z
LAST-MODIFIED:20250507T145214Z
UID:10000077-1728297000-1728577800@knowsleyhall.co.uk
SUMMARY:Knowsley Hall Guided Tours (7th-10th & 14th October)
DESCRIPTION:Apologies\, we are no longer taking bookings for tours this week. \nThe Earl and Countess of Derby extend a warm welcome to all visitors for the annual public open week at Knowsley Hall in October 2024. This exclusive event provides a unique opportunity for guests to enjoy a guided tour of one of Merseyside’s best-kept treasures. \nDATES & TIMES\nThere will be two daily tours at 10:30am and 14:30pm on the following dates: \n\nMonday 7th October\nTuesday 8th October\nWednesday 9th October\nThursday 10th October\nMonday 14th October\n\nEach tour\, lasting approximately 1 ½ hours and will finish with refreshments to include tea\, coffee and biscuits for £24 per person.  There will be an opportunity to ask questions and purchase memorabilia. For an extra treat\, book a Knowsley afternoon tea for £27 per person served after the morning tour or before the afternoon tour. \nSPECIAL EXHIBITION – DERBY WOMEN\n\n\n\n\nThis year’s special exhibition celebrates the remarkable women of the Derby family through the centuries\, featuring captivating paintings and stories. Discover the iconic Lady Margaret Beaufort\, who married the 1st Earl after being previously wed to the Earl of Richmond and giving birth to Henry Tudor\, later Henry VII. Explore the legacy of Charlotte de La Trémoille\, the esteemed wife of the 7th Earl\, and her heroic defense of Lathom House during the 1644 parliamentary siege. Learn about Eliza Farren\, the second wife of the 12th Earl\, who rose to fame as a celebrated comic actress\, securing her place in history. \nThe current Countess of Derby\, Caroline Stanley\, is married to Edward Stanley\, the 19th Earl of Derby. She has produced engaging podcasts\, documentaries\, and history talks. Her seven-episode podcast series delves into the Derby family’s six centuries of history\, filled with riveting drama\, intrigue\, politics\, war\, socio-economic changes\, culture\, and art. \n\n\n\n\n  \n  \n     
URL:https://knowsleyhall.co.uk/event/guided-tours/
LOCATION:Knowsley Hall\, Knowsley Hall\, Prescot\, Merseyside\, L34 4AJ\, United Kingdom
ATTACH;FMTTYPE=image/jpeg:https://knowsleyhall.co.uk/wp-content/uploads/2023/03/exterior.jpg
ORGANIZER;CN="Knowsley Hall":MAILTO:events@knowsley.com
END:VEVENT
BEGIN:VEVENT
DTSTART;TZID=Europe/London:20241014T103000
DTEND;TZID=Europe/London:20241014T163000
DTSTAMP:20260421T193043
CREATED:20240305T140819Z
LAST-MODIFIED:20250507T144727Z
UID:10000078-1728901800-1728923400@knowsleyhall.co.uk
SUMMARY:Knowsley Hall Guided Tours (14th October)
DESCRIPTION:Apologies\, we are no longer taking bookings for tours this week. \n  \nThe Earl and Countess of Derby extend a warm welcome to all visitors for the annual public open week at Knowsley Hall in October 2024. This exclusive event provides a unique opportunity for guests to enjoy a guided tour of one of Merseyside’s best-kept treasures. \nDATES & TIMES\nThere will be two tours available at 10:30am and 14:30pm on Monday 14th October. \nEach tour will last approximately 1 ½ hours and will finish with refreshments to include\, tea\, coffee and biscuits.  There will be an opportunity to ask questions and purchase memorabilia. For an extra treat\, book a Knowsley Afternoon Tea for £27 per person served after the morning tour or before the afternoon tour. \nSPECIAL EXHIBITION – DERBY WOMEN\nThis year’s special exhibition celebrates the remarkable women of the Derby family through the centuries\, featuring captivating paintings and stories. Discover the iconic Lady Margaret Beaufort\, who married the 1st Earl after being previously wed to the Earl of Richmond and giving birth to Henry Tudor\, later Henry VII. Explore the legacy of Charlotte de La Trémoille\, the esteemed wife of the 7th Earl\, and her heroic defense of Lathom House during the 1644 parliamentary siege. Learn about Eliza Farren\, the second wife of the 12th Earl\, who rose to fame as a celebrated comic actress\, securing her place in history. \nThe current Countess of Derby\, Caroline Stanley\, is married to Edward Stanley\, the 19th Earl of Derby. She has produced engaging podcasts\, documentaries\, and history talks. Her seven-episode podcast series delves into the Derby family’s six centuries of history\, filled with riveting drama\, intrigue\, politics\, war\, socio-economic changes\, culture\, and art. \n  \n  \n    \n  \n  \n 
URL:https://knowsleyhall.co.uk/event/knowsley-hall-guided-tours/
LOCATION:Knowsley Hall\, Knowsley Hall\, Prescot\, Merseyside\, L34 4AJ\, United Kingdom
ATTACH;FMTTYPE=image/jpeg:https://knowsleyhall.co.uk/wp-content/uploads/2023/03/Staircase-1920.jpg
ORGANIZER;CN="Knowsley Hall":MAILTO:events@knowsley.com
END:VEVENT
BEGIN:VEVENT
DTSTART;TZID=Europe/London:20241019T140000
DTEND;TZID=Europe/London:20241019T140000
DTSTAMP:20260421T193043
CREATED:20240910T105258Z
LAST-MODIFIED:20250507T143712Z
UID:10000090-1729346400-1729346400@knowsleyhall.co.uk
SUMMARY:Knowsley Hall Signature Afternoon Tea
DESCRIPTION:Indulge in an exquisite afternoon tea experience amidst the grandeur of Knowsley Hall. Prepare to be transported to a world of elegance and refinement with a touch of whimsy. Inspired by The Owl and The Pussy Cat written by Edward Lear at Knowsley Hall.  \nStart your afternoon tea experience with a tincture cocktail before embarking on a journey of culinary delights\, with a nod to the charming characters and whimsical adventures of Edward Lear’s beloved poem. \n\n  \nKnowsley Hall Signature Afternoon Tea Menu\nTo start a selection of savouries \nFreshly baked sweet and savoury scones \nAssortment of exquisite pastries and cakes \nWe have a variety of 12 premium teas for you to choose from. Our knowledgeable team will willingly guide you and refill your teapot as often as you would like.  \nKnowsley Hall cocktails will be available to add to your afternoon tea and have been developed by our in-house mixologist Megan Clarke.     \nIf you have any dietary requirements\, please kindly let us know in advance of your visit via email with your booking reference to events@knowsley.com  \nThis experience priced at £60 per person includes: \n\nA tincture cocktail on arrival \n\n\nSignature Afternoon Tea  \n\n\nSelection of premium teas (unlimited) \n\n\nMusical entertainment \n\nYour Signature Afternoon Tea experience lasts for an hour and a half. \nOnce your experience is over you are welcome to explore our gardens during your visit\, set within 2\,500 acres of private walled estate\, Knowsley Hall is surrounded by the stunning Capability Brown inspired gardens. \nThe Signature Afternoon Tea is available to book for the 16th November 2024. \nBOOK NOW \nIf you’d like to hear from Knowsley Hall for future events and news please click here \n 
URL:https://knowsleyhall.co.uk/event/afternoon-tea/
LOCATION:Knowsley Hall\, Knowsley Hall\, Prescot\, Merseyside\, L34 4AJ\, United Kingdom
ATTACH;FMTTYPE=image/jpeg:https://knowsleyhall.co.uk/wp-content/uploads/2024/09/Afternoon-tea-no-date.jpg
ORGANIZER;CN="Knowsley Hall":MAILTO:events@knowsley.com
END:VEVENT
BEGIN:VEVENT
DTSTART;TZID=Europe/London:20241024T170000
DTEND;TZID=Europe/London:20241024T200000
DTSTAMP:20260421T193043
CREATED:20241001T160437Z
LAST-MODIFIED:20250507T143559Z
UID:10000092-1729789200-1729800000@knowsleyhall.co.uk
SUMMARY:Wedding Open Evening
DESCRIPTION:Join us for our Wedding Open Evening on Thursday 24 October\, from 5pm to 8pm\, and start planning your dream wedding! At Knowsley Hall\, every wedding enjoys complete exclusivity of the entire stately home\, ensuring you and your guests can celebrate without interruption. \nOur open evenings are a wonderful opportunity to see the house elegantly dressed for a wedding\, meet our dedicated team\, and gain inspiration from our trusted partners. Stroll through our beautiful rooms and picturesque gardens with a complimentary glass of fizz. \nOur friendly team will be on hand to answer any questions and help you reserve your preferred date. \nSecure your place at our open evening by clicking the link below. \nParking is free\, please use the Croxteth Gate off Knowsley Lane\, postcode L34 7HD or you can use what 3 words – ///tribe.tolls.bids \nBOOK YOUR FREE PLACE \nThe following suppliers will be attending our open evening with more to come: \n\nBig Creative Events\nBoutique Brides of Crosby\nByInvitationly\nCapture my big day\nChildwall Table & Chair Hire\nClaire Southern Macarons\nCrazy9\nDanielle Marouzet Hair\nElizabeth Harris Cakes\nFlowerstyle by Laurie\nJeff Langhorne\nKeyhole Studios\nNanny Tap\nOlivia Parr Music\nPrincess 4 A Day\nPure Silk Ceremonies\nSkelmersdale Flowers\nThomas Demol\nToneacity Entertainment\nViolin Around\nZanda Magic
URL:https://knowsleyhall.co.uk/event/wedding-open-evening-3/
LOCATION:Knowsley Hall\, Knowsley Hall\, Prescot\, Merseyside\, L34 4AJ\, United Kingdom
ATTACH;FMTTYPE=image/jpeg:https://knowsleyhall.co.uk/wp-content/uploads/2023/06/Bride-groom-guests.jpg
ORGANIZER;CN="Knowsley Hall":MAILTO:events@knowsley.com
END:VEVENT
BEGIN:VEVENT
DTSTART;TZID=Europe/London:20241026T190000
DTEND;TZID=Europe/London:20241026T190000
DTSTAMP:20260421T193043
CREATED:20240809T114315Z
LAST-MODIFIED:20250507T143036Z
UID:10000085-1729969200-1729969200@knowsleyhall.co.uk
SUMMARY:Murder Mystery Evening - The Hunted
DESCRIPTION:This event is now closed for bookings. \n  \nWe invite you to an unforgettable Murder Mystery Evening where suspense\, glamour\, and excitement await. Join us on Saturday 26th October\, for an enthralling experience brought to you by the UK’s leading murder mystery entertainment company\, Murder 57. What could be a better way to spend Halloween weekend than with an evening of suspense and intrigue?  \nThe chilling evening begins at 7pm with a sparkling welcome drink upon arrival\, followed by a delicious four-course meal in the State Dining Room before guests embark on the fully interactive Murder Mystery Entertainment Event brought to Knowsley Hall by Murder 57.  \nOnce the mystery has been solved and the perpetrator exposed\, guests can rest easy and enjoy the rest of the night on the dancefloor.  The magic of the evening can also be extended with an overnight stay in one of Knowsley Hall’s magnificent en-suite bedrooms.  \nThe Plot\nIt’s the time of the year where the Kirk-Moulding family host the local event. Welcoming the community onto the grounds for a long traditional “get together”. The kids love it and the parents enjoy the atmosphere. But it’s not just the event going on. A serial killer is on loose and threatens the integrity of this fantastic tradition.    \nAfter an amazing day it has now come to the evening party for the Kirk-Moulding family and parents to let down their hair. But in the background\, there has already been two deaths\, with many more to come!! With staff\, guests and family members dying\, no one is safe\, not even the police!!  \nThis experience priced at £125 per person includes:\n\nTickets to a fully Interactive Murder Mystery Entertainment Event by Murder 57\nA sparkling welcome drink \nFour-course meal – view menu here \nDJ entertainment by Big Creative Events\n\nBook an overnight stay\nExtend the magic of the evening with an overnight stay at Knowsley Hall. Priced at £500* for two people it includes all of the above with bed and breakfast for two people.  Check-in is available from 3:00pm on 26th October\, with check-out at 11:00am on 27th October. Spaces are limited for this exclusive event.   \nReserve your tickets today and prepare for a night of murder\, mystery\, elegance\, and excitement at Knowsley Hall!  \n*There is a £50 supplement to reserve Lord Derby’s Suite.  \nIf you’d like to hear from Knowsley Hall for future events and news please click here  \n  \n  \n 
URL:https://knowsleyhall.co.uk/event/murder-mystery-the-hunted/
LOCATION:Knowsley Hall\, Knowsley Hall\, Prescot\, Merseyside\, L34 4AJ\, United Kingdom
ATTACH;FMTTYPE=image/jpeg:https://knowsleyhall.co.uk/wp-content/uploads/2024/08/Murder-Mystery-Event-2-KH.jpg
ORGANIZER;CN="Knowsley Hall":MAILTO:events@knowsley.com
END:VEVENT
END:VCALENDAR