BEGIN:VCALENDAR
VERSION:2.0
PRODID:-//Knowsley Hall - ECPv6.15.17.1//NONSGML v1.0//EN
CALSCALE:GREGORIAN
METHOD:PUBLISH
X-WR-CALNAME:Knowsley Hall
X-ORIGINAL-URL:https://knowsleyhall.co.uk
X-WR-CALDESC:Events for Knowsley Hall
REFRESH-INTERVAL;VALUE=DURATION:PT1H
X-Robots-Tag:noindex
X-PUBLISHED-TTL:PT1H
BEGIN:VTIMEZONE
TZID:Europe/London
BEGIN:DAYLIGHT
TZOFFSETFROM:+0000
TZOFFSETTO:+0100
TZNAME:BST
DTSTART:20230326T010000
END:DAYLIGHT
BEGIN:STANDARD
TZOFFSETFROM:+0100
TZOFFSETTO:+0000
TZNAME:GMT
DTSTART:20231029T010000
END:STANDARD
BEGIN:DAYLIGHT
TZOFFSETFROM:+0000
TZOFFSETTO:+0100
TZNAME:BST
DTSTART:20240331T010000
END:DAYLIGHT
BEGIN:STANDARD
TZOFFSETFROM:+0100
TZOFFSETTO:+0000
TZNAME:GMT
DTSTART:20241027T010000
END:STANDARD
BEGIN:DAYLIGHT
TZOFFSETFROM:+0000
TZOFFSETTO:+0100
TZNAME:BST
DTSTART:20250330T010000
END:DAYLIGHT
BEGIN:STANDARD
TZOFFSETFROM:+0100
TZOFFSETTO:+0000
TZNAME:GMT
DTSTART:20251026T010000
END:STANDARD
END:VTIMEZONE
BEGIN:VEVENT
DTSTART;TZID=Europe/London:20240802T190000
DTEND;TZID=Europe/London:20240802T190000
DTSTAMP:20260421T230835
CREATED:20240624T152925Z
LAST-MODIFIED:20250507T145743Z
UID:10000082-1722625200-1722625200@knowsleyhall.co.uk
SUMMARY:Til Death Us Do Part
DESCRIPTION:We invite you to an unforgettable Murder Mystery Evening where suspense\, glamour\, and excitement await. Join us on Friday 2nd August\, for an enthralling experience brought to you by the UK’s leading murder mystery entertainment company\, Murder 57. \nThe Plot\nYou are invited to the wedding reception of high school sweethearts\, Jack and Jill Smith. The vows have been exchanged and the party is in full swing – but is everyone happy for the happy couple? Is somebody hoping that death will part them sooner than most would have expected? \nThis experience priced at £125 per person includes:\n\nTickets to a fully Interactive Murder Mystery Entertainment Event by Murder 57\nA glass of sparkling wine on arrival\nThree-course meal – view menu here \nDJ entertainment by Big Creative Events\n\nBook an overnight stay\nExtend the magic of the evening with an overnight stay at Knowsley Hall. Prices are £500.00* for two people and include all of the above with bed and breakfast for two people.  Check-in is available from 3:00pm on 2nd August\, with check-out at 11:00am on 3rd August. Spaces are limited for this exclusive event. *There is a £50.00 supplement to reserve Lord Derby’s Suite. \nApologies bookings for this event are now closed. \nIf you’d like to hear from Knowsley Hall for future events and news please click here  \n  \n  \n 
URL:https://knowsleyhall.co.uk/event/murder-mystery-evening/
LOCATION:Knowsley Hall\, Knowsley Hall\, Prescot\, Merseyside\, L34 4AJ\, United Kingdom
ATTACH;FMTTYPE=image/jpeg:https://knowsleyhall.co.uk/wp-content/uploads/2024/06/Till-Death-Do-Us-Part-FB-1.jpg
ORGANIZER;CN="Knowsley Hall":MAILTO:events@knowsley.com
END:VEVENT
BEGIN:VEVENT
DTSTART;TZID=Europe/London:20240829T170000
DTEND;TZID=Europe/London:20240829T200000
DTSTAMP:20260421T230835
CREATED:20240801T112849Z
LAST-MODIFIED:20250507T145536Z
UID:10000084-1724950800-1724961600@knowsleyhall.co.uk
SUMMARY:Wedding Open Evening
DESCRIPTION:Join us for our Wedding Open Evening on Thursday 29 August\, from 5pm to 8pm\, and start planning your dream wedding! At Knowsley Hall\, every wedding enjoys complete exclusivity of the entire stately home\, ensuring you and your guests can celebrate without interruption. \nOur open evenings are a wonderful opportunity to see the house elegantly dressed for a wedding\, meet our dedicated team\, and gain inspiration from our trusted partners. Stroll through our beautiful rooms and picturesque gardens with a complimentary glass of fizz. \nOur friendly team will be on hand to answer any questions and help you reserve your preferred date. \nSecure your place at our open evening by clicking the link below. \nParking is free\, please use the Croxteth Gate off Knowsley Lane\, postcode L34 7HF or you can use what 3 words – ///tribe.tolls.bids \nBOOK YOUR FREE PLACE \nThe following suppliers will be attending our open evening with more to come: \n\nBig Creative Events\nBoutique Brides of Crosby\nBridal Lab\nByInvitationly\nCake Pavilion\nChildwall Table & Chair Hire\nClare Suzanne Bridal\nDanielle Marouzet Hair\nDevotion Jewellery\nElizabeth Harris Cakes\nICE\nJosh Griffiths Illustrator\nKnowsley Registrar\nNanny Tap\nPure Silk Ceremonies\nRocks for Frocks\nSkelmersdale Flowers\nThomas Demol\nViolin around
URL:https://knowsleyhall.co.uk/event/wedding-open-evening-august/
LOCATION:Knowsley Hall\, Knowsley Hall\, Prescot\, Merseyside\, L34 4AJ\, United Kingdom
ATTACH;FMTTYPE=image/png:https://knowsleyhall.co.uk/wp-content/uploads/2024/03/Copy-of-Feb-open-day-Facebook-Post.png
ORGANIZER;CN="Knowsley Hall":MAILTO:events@knowsley.com
END:VEVENT
END:VCALENDAR