BEGIN:VCALENDAR
VERSION:2.0
PRODID:-//Knowsley Hall - ECPv6.15.17.1//NONSGML v1.0//EN
CALSCALE:GREGORIAN
METHOD:PUBLISH
X-WR-CALNAME:Knowsley Hall
X-ORIGINAL-URL:https://knowsleyhall.co.uk
X-WR-CALDESC:Events for Knowsley Hall
REFRESH-INTERVAL;VALUE=DURATION:PT1H
X-Robots-Tag:noindex
X-PUBLISHED-TTL:PT1H
BEGIN:VTIMEZONE
TZID:Europe/London
BEGIN:DAYLIGHT
TZOFFSETFROM:+0000
TZOFFSETTO:+0100
TZNAME:BST
DTSTART:20230326T010000
END:DAYLIGHT
BEGIN:STANDARD
TZOFFSETFROM:+0100
TZOFFSETTO:+0000
TZNAME:GMT
DTSTART:20231029T010000
END:STANDARD
BEGIN:DAYLIGHT
TZOFFSETFROM:+0000
TZOFFSETTO:+0100
TZNAME:BST
DTSTART:20240331T010000
END:DAYLIGHT
BEGIN:STANDARD
TZOFFSETFROM:+0100
TZOFFSETTO:+0000
TZNAME:GMT
DTSTART:20241027T010000
END:STANDARD
BEGIN:DAYLIGHT
TZOFFSETFROM:+0000
TZOFFSETTO:+0100
TZNAME:BST
DTSTART:20250330T010000
END:DAYLIGHT
BEGIN:STANDARD
TZOFFSETFROM:+0100
TZOFFSETTO:+0000
TZNAME:GMT
DTSTART:20251026T010000
END:STANDARD
END:VTIMEZONE
BEGIN:VEVENT
DTSTART;TZID=Europe/London:20240512T120000
DTEND;TZID=Europe/London:20240512T150000
DTSTAMP:20260422T050033
CREATED:20240206T101113Z
LAST-MODIFIED:20250507T150700Z
UID:10000073-1715515200-1715526000@knowsleyhall.co.uk
SUMMARY:Wedding Fair with Little White Books
DESCRIPTION:We are delighted to announce Little White Books will be joining us for our Wedding Fair on Sunday 12th May 2024! \nOur Wedding Fair will feature twenty of the area’s leading and most sought-after wedding suppliers. \nCelebrate your love story amidst the timeless elegance of Knowsley Hall\, where history and romance meet to create the perfect backdrop for your stately home wedding. Step into a world of refined grandeur\, as you enter through the imposing gates into the 2\,500-acre private walled estate where you will be completely mesmerised by the sheer size and beauty of the Knowsley Estate\, exclusively yours on your magical wedding day. \n\nJoin us for an unforgettable day filled with inspiration and advice to help bring your dream wedding day to life. \nAdmission and parking are complimentary. \nRegister for free tickets here. \nSuppliers attending are: \n\nCreative Event Stylists\nOlive Owl Flowers\nSkelmersdale Flowers\nFairytale Endings\nChurchtown Wedding Cars\nGavin J Foley Videography\nRW Photography\nSarah Glynn Photography\nThomas Demol Photography\nVictoria Louise Videography\nThe Joy Celebrant\nPress Record Live DJs\nParbold Dental\nMade by Myself Stationery\nLydia Dixon Bespoke Artist\nLive Piano\nJR Entertainment\nHenry D Johnstone Jewellery\nDevotion Jewellery\nCaring Hands Creche Services
URL:https://knowsleyhall.co.uk/event/wedding-fair-with-little-white-books/
LOCATION:Knowsley Hall\, Knowsley Hall\, Prescot\, Merseyside\, L34 4AJ\, United Kingdom
ATTACH;FMTTYPE=image/png:https://knowsleyhall.co.uk/wp-content/uploads/2024/02/Copy-of-Feb-open-day-7.png
ORGANIZER;CN="Knowsley Hall":MAILTO:events@knowsley.com
END:VEVENT
BEGIN:VEVENT
DTSTART;TZID=Europe/London:20240225T110000
DTEND;TZID=Europe/London:20240225T150000
DTSTAMP:20260422T050034
CREATED:20240115T145943Z
LAST-MODIFIED:20250507T150809Z
UID:10000074-1708858800-1708873200@knowsleyhall.co.uk
SUMMARY:Wedding Showcase
DESCRIPTION:Discover the charm of our historic estate at our Wedding Showcase on Sunday 25th February\, from 11 am to 3 pm. Upon arrival\, enjoy a complimentary glass of bubbles and take the opportunity to stroll through our stunning rooms and enchanting gardens. Our State Rooms will be dressed for a wedding ceremony and sit-down wedding breakfast\, elegantly dressed by our talented venue dressers. \nOur friendly team will be available to answer any questions you may have and assist in securing a date for your special day. A selection of our recommended suppliers will be joining us to offer their advice and ideas to help create your dream wedding day. \nReserve your complimentary places by following the link below. \nEnjoy free parking\, and easily locate us using the postcode L34 4AJ. \nREGISTER HERE \nSuppliers joining us are: \n\nFlowerstyle by Laurie (styling the Ceremony Room)\nSkelmersdale Flowers (styling the Dining Room)\nThornton Events\nBy Invitationly\nChildwall Table & Chair hire\nPrincess 4 A Day\nKeyhole Motors\nLive Piano\nAbbie Hanlon Music\nNorthern String Quartet\nClaire’s Macarons\nCake Pavilion\nToni James Band\nZanda Magic\nMarry Me Films\nBoutique Brides of Crosby\nDanielle Marouzet Hair\nPure Silk Ceremonies\nThe Bridal Lab (MUA)\nIce Entertainment\nBig Creative Events UK Ltd\nKnowsley Registrar\nJaine Briscoe\nJeff Langhorne
URL:https://knowsleyhall.co.uk/event/february-wedding-open-day/
LOCATION:Knowsley Hall\, Knowsley Hall\, Prescot\, Merseyside\, L34 4AJ\, United Kingdom
ATTACH;FMTTYPE=image/png:https://knowsleyhall.co.uk/wp-content/uploads/2024/01/Feb-open-day-2.png
ORGANIZER;CN="Knowsley Hall":MAILTO:events@knowsley.com
END:VEVENT
END:VCALENDAR